BEGIN:VCALENDAR
VERSION:2.0
PRODID:-//Drupal iCal API//EN
X-WR-CALNAME:Calendar of Events
X-WR-TIMEZONE:America/Chicago
BEGIN:VTIMEZONE
TZID:America/Chicago
X-LIC-LOCATION:America/Chicago
BEGIN:DAYLIGHT
TZNAME:CDT
TZOFFSETFROM:-0600
TZOFFSETTO:-0500
DTSTART:20250309T080000
END:DAYLIGHT
BEGIN:STANDARD
TZNAME:CST
TZOFFSETFROM:-0500
TZOFFSETTO:-0600
DTSTART:20251102T070000
END:STANDARD
END:VTIMEZONE
BEGIN:VEVENT
UID:c80450db-c67c-4f36-8a99-f84614f1f088
DTSTART;TZID=America/Chicago:20251205T183000
SEQUENCE:0
TRANSP:TRANSPARENT
DTEND;TZID=America/Chicago:20251206T203000
SUMMARY:Dance Team Winter Showcase
CLASS:PUBLIC
DESCRIPTION:Body \n\nLocation: GMS Cafe\, Commons\, & Gyms
DTSTAMP:20260424T164025Z
END:VEVENT
END:VCALENDAR