BEGIN:VCALENDAR
VERSION:2.0
PRODID:-//Drupal iCal API//EN
X-WR-CALNAME:Calendar of Events
X-WR-TIMEZONE:America/Chicago
BEGIN:VTIMEZONE
TZID:America/Chicago
X-LIC-LOCATION:America/Chicago
BEGIN:DAYLIGHT
TZNAME:CDT
TZOFFSETFROM:-0600
TZOFFSETTO:-0500
DTSTART:20260308T080000
END:DAYLIGHT
BEGIN:STANDARD
TZNAME:CST
TZOFFSETFROM:-0500
TZOFFSETTO:-0600
DTSTART:20251102T070000
END:STANDARD
END:VTIMEZONE
BEGIN:VEVENT
UID:72e2d788-1e6c-4a3d-92f3-f362664f693d
DTSTART;TZID=America/Chicago:20260427T180000
SEQUENCE:0
TRANSP:TRANSPARENT
DTEND;TZID=America/Chicago:20260427T190000
SUMMARY:Tiger Track--Division 1 District Meet
CLASS:PUBLIC
DESCRIPTION:Body \n\nLocation: Burger Stadium
DTSTAMP:20260425T125534Z
END:VEVENT
END:VCALENDAR